BEGIN:VCALENDAR
VERSION:2.0
PRODID:-//Perbadanan  Stadium Negeri Kedah - ECPv6.14.1//NONSGML v1.0//EN
CALSCALE:GREGORIAN
METHOD:PUBLISH
X-WR-CALNAME:Perbadanan  Stadium Negeri Kedah
X-ORIGINAL-URL:https://www.stadiumkedah.gov.my
X-WR-CALDESC:Events for Perbadanan  Stadium Negeri Kedah
REFRESH-INTERVAL;VALUE=DURATION:PT1H
X-Robots-Tag:noindex
X-PUBLISHED-TTL:PT1H
BEGIN:VTIMEZONE
TZID:Asia/Kuala_Lumpur
BEGIN:STANDARD
TZOFFSETFROM:+0800
TZOFFSETTO:+0800
TZNAME:+08
DTSTART:20130101T000000
END:STANDARD
END:VTIMEZONE
BEGIN:VEVENT
DTSTART;TZID=Asia/Kuala_Lumpur:20131209T080000
DTEND;TZID=Asia/Kuala_Lumpur:20131209T130000
DTSTAMP:20260426T001454
CREATED:20131205T031927Z
LAST-MODIFIED:20131205T031927Z
UID:6266-1386576000-1386594000@www.stadiumkedah.gov.my
SUMMARY:Ujian Kecergasan Jabatan Perhutanan (SDA)
DESCRIPTION:
URL:https://www.stadiumkedah.gov.my/acara/ujian-kecergasan-jabatan-perhutanan-sda/
LOCATION:Stadium Darul Aman
CATEGORIES:Stadium Darul Aman
END:VEVENT
BEGIN:VEVENT
DTSTART;TZID=Asia/Kuala_Lumpur:20131208T204500
DTEND;TZID=Asia/Kuala_Lumpur:20131208T233000
DTSTAMP:20260426T001454
CREATED:20131205T031537Z
LAST-MODIFIED:20131205T031646Z
UID:6265-1386535500-1386545400@www.stadiumkedah.gov.my
SUMMARY:Piala Emas Raja - Raja Separuh Akhir Kedah vs Selangor (SDA)
DESCRIPTION:
URL:https://www.stadiumkedah.gov.my/acara/piala-emas-raja-raja-separuh-akhir-kedah-vs-selangor-sda/
LOCATION:Stadium Darul Aman
CATEGORIES:Stadium Darul Aman
END:VEVENT
BEGIN:VEVENT
DTSTART;TZID=Asia/Kuala_Lumpur:20131207T080000
DTEND;TZID=Asia/Kuala_Lumpur:20131208T120000
DTSTAMP:20260426T001454
CREATED:20131205T041731Z
LAST-MODIFIED:20131205T041731Z
UID:6274-1386403200-1386504000@www.stadiumkedah.gov.my
SUMMARY:Unimap (Akuatik)
DESCRIPTION:
URL:https://www.stadiumkedah.gov.my/acara/unimap-akuatik/
CATEGORIES:Pusat Akuatik Negeri Kedah
END:VEVENT
BEGIN:VEVENT
DTSTART;TZID=Asia/Kuala_Lumpur:20131206T100000
DTEND;TZID=Asia/Kuala_Lumpur:20131214T220000
DTSTAMP:20260426T001454
CREATED:20131205T031235Z
LAST-MODIFIED:20131205T032441Z
UID:6264-1386324000-1387058400@www.stadiumkedah.gov.my
SUMMARY:Karnival Jualan Jom Pergi Sekolah Anjuran KPDNKK (SDA)
DESCRIPTION:
URL:https://www.stadiumkedah.gov.my/acara/karnival-jualan-sda/
LOCATION:Stadium Darul Aman
CATEGORIES:Stadium Darul Aman
END:VEVENT
BEGIN:VEVENT
DTSTART;TZID=Asia/Kuala_Lumpur:20131205T100000
DTEND;TZID=Asia/Kuala_Lumpur:20131208T220000
DTSTAMP:20260426T001454
CREATED:20131205T023408Z
LAST-MODIFIED:20131205T023409Z
UID:6262-1386237600-1386540000@www.stadiumkedah.gov.my
SUMMARY:Karnival Perabot Wynn Living (SSAH)
DESCRIPTION:
URL:https://www.stadiumkedah.gov.my/acara/karnival-perabot-wynn-living-ssah/
CATEGORIES:Stadium Sultan Abdul Halim
END:VEVENT
BEGIN:VEVENT
DTSTART;TZID=Asia/Kuala_Lumpur:20131203T200000
DTEND;TZID=Asia/Kuala_Lumpur:20131203T200000
DTSTAMP:20260426T001454
CREATED:20131205T032749Z
LAST-MODIFIED:20131205T032911Z
UID:6269-1386100800-1386100800@www.stadiumkedah.gov.my
SUMMARY:Program Sambutan Maal Hijrah (SSAH)
DESCRIPTION:
URL:https://www.stadiumkedah.gov.my/acara/program-sambutan-maal-hijrah-ssah/
LOCATION:Stadium Sultan Abdul Halim
CATEGORIES:Stadium Sultan Abdul Halim
END:VEVENT
BEGIN:VEVENT
DTSTART;TZID=Asia/Kuala_Lumpur:20131116T204500
DTEND;TZID=Asia/Kuala_Lumpur:20131116T230000
DTSTAMP:20260426T001454
CREATED:20131113T024104Z
LAST-MODIFIED:20131113T024104Z
UID:6252-1384634700-1384642800@www.stadiumkedah.gov.my
SUMMARY:Piala Emas Raja2 Kedah mln Pahang (SDA)
DESCRIPTION:
URL:https://www.stadiumkedah.gov.my/acara/piala-emas-raja2-kedah-mln-pahang-sda/
LOCATION:Stadium Darul Aman
CATEGORIES:Stadium Darul Aman
END:VEVENT
BEGIN:VEVENT
DTSTART;TZID=Asia/Kuala_Lumpur:20131110T080000
DTEND;TZID=Asia/Kuala_Lumpur:20131114T170000
DTSTAMP:20260426T001454
CREATED:20131113T023922Z
LAST-MODIFIED:20131113T023922Z
UID:6251-1384070400-1384448400@www.stadiumkedah.gov.my
SUMMARY:Kastam - Balapan (SDA)
DESCRIPTION:
URL:https://www.stadiumkedah.gov.my/acara/kastam-balapan-sda-2/
LOCATION:Stadium Darul Aman
CATEGORIES:Stadium Darul Aman
END:VEVENT
BEGIN:VEVENT
DTSTART;TZID=Asia/Kuala_Lumpur:20131109T080000
DTEND;TZID=Asia/Kuala_Lumpur:20131109T170000
DTSTAMP:20260426T001454
CREATED:20131113T023841Z
LAST-MODIFIED:20131113T023841Z
UID:6250-1383984000-1384016400@www.stadiumkedah.gov.my
SUMMARY:TNB Kedah -Bola Sepak
DESCRIPTION:
URL:https://www.stadiumkedah.gov.my/acara/tnb-kedah-bola-sepak/
CATEGORIES:Stadium Darul Aman
END:VEVENT
BEGIN:VEVENT
DTSTART;TZID=Asia/Kuala_Lumpur:20131108T080000
DTEND;TZID=Asia/Kuala_Lumpur:20131108T170000
DTSTAMP:20260426T001454
CREATED:20131113T023741Z
LAST-MODIFIED:20131113T023741Z
UID:6249-1383897600-1383930000@www.stadiumkedah.gov.my
SUMMARY:SK Dato' Wan M.Saman - Balapan (SDA)
DESCRIPTION:
URL:https://www.stadiumkedah.gov.my/acara/sk-dato-wan-m-saman-balapan-sda/
LOCATION:Stadium Darul Aman
CATEGORIES:Stadium Darul Aman
END:VEVENT
BEGIN:VEVENT
DTSTART;TZID=Asia/Kuala_Lumpur:20131107T080000
DTEND;TZID=Asia/Kuala_Lumpur:20131107T170000
DTSTAMP:20260426T001454
CREATED:20131113T023623Z
LAST-MODIFIED:20131113T023623Z
UID:6248-1383811200-1383843600@www.stadiumkedah.gov.my
SUMMARY:Jabatan Perhutanan -Balapan (SDA)
DESCRIPTION:
URL:https://www.stadiumkedah.gov.my/acara/jabatan-perhutanan-balapan-sda/
CATEGORIES:Stadium Darul Aman
END:VEVENT
BEGIN:VEVENT
DTSTART;TZID=Asia/Kuala_Lumpur:20131106T080000
DTEND;TZID=Asia/Kuala_Lumpur:20131106T170000
DTSTAMP:20260426T001454
CREATED:20131113T023509Z
LAST-MODIFIED:20131113T023509Z
UID:6247-1383724800-1383757200@www.stadiumkedah.gov.my
SUMMARY:Kastam-Balapan (SDA)
DESCRIPTION:
URL:https://www.stadiumkedah.gov.my/acara/kastam-balapan-sda/
LOCATION:Stadium Darul Aman
CATEGORIES:Stadium Darul Aman
END:VEVENT
BEGIN:VEVENT
DTSTART;TZID=Asia/Kuala_Lumpur:20131104T160000
DTEND;TZID=Asia/Kuala_Lumpur:20131114T190000
DTSTAMP:20260426T001454
CREATED:20131113T024610Z
LAST-MODIFIED:20131113T024903Z
UID:6253-1383580800-1384455600@www.stadiumkedah.gov.my
SUMMARY:KFA Piala Presiden - latihan (SSAH)
DESCRIPTION:
URL:https://www.stadiumkedah.gov.my/acara/kfa-piala-presiden-latihan-ssah/
LOCATION:Stadium Sultan Abdul Halim
CATEGORIES:Stadium Sultan Abdul Halim
END:VEVENT
BEGIN:VEVENT
DTSTART;TZID=Asia/Kuala_Lumpur:20131101T080000
DTEND;TZID=Asia/Kuala_Lumpur:20131102T080000
DTSTAMP:20260426T001454
CREATED:20131113T023039Z
LAST-MODIFIED:20131113T023318Z
UID:6246-1383292800-1383379200@www.stadiumkedah.gov.my
SUMMARY:Sek Berasrama Penuh K.Pasu-Balapan (SDA)
DESCRIPTION:
URL:https://www.stadiumkedah.gov.my/acara/sek-berasrama-penuh-k-pasu-balapan-sda/
LOCATION:Stadium Darul Aman
CATEGORIES:Stadium Darul Aman
END:VEVENT
END:VCALENDAR