BEGIN:VCALENDAR
VERSION:2.0
PRODID:-//Perbadanan  Stadium Negeri Kedah - ECPv6.14.1//NONSGML v1.0//EN
CALSCALE:GREGORIAN
METHOD:PUBLISH
X-WR-CALNAME:Perbadanan  Stadium Negeri Kedah
X-ORIGINAL-URL:https://www.stadiumkedah.gov.my
X-WR-CALDESC:Events for Perbadanan  Stadium Negeri Kedah
REFRESH-INTERVAL;VALUE=DURATION:PT1H
X-Robots-Tag:noindex
X-PUBLISHED-TTL:PT1H
BEGIN:VTIMEZONE
TZID:Asia/Kuala_Lumpur
BEGIN:STANDARD
TZOFFSETFROM:+0800
TZOFFSETTO:+0800
TZNAME:+08
DTSTART:20170101T000000
END:STANDARD
END:VTIMEZONE
BEGIN:VEVENT
DTSTART;TZID=Asia/Kuala_Lumpur:20170701T210000
DTEND;TZID=Asia/Kuala_Lumpur:20170701T230000
DTSTAMP:20260421T232431
CREATED:20170607T005211Z
LAST-MODIFIED:20170607T005211Z
UID:9030-1498942800-1498950000@www.stadiumkedah.gov.my
SUMMARY:Liga Super Kedah mln Perak
DESCRIPTION:
URL:https://www.stadiumkedah.gov.my/acara/liga-super-kedah-mln-perak/
LOCATION:Stadium Darul Aman
CATEGORIES:Acara,Stadium Darul Aman
END:VEVENT
BEGIN:VEVENT
DTSTART;TZID=Asia/Kuala_Lumpur:20170524T210000
DTEND;TZID=Asia/Kuala_Lumpur:20170524T230000
DTSTAMP:20260421T232431
CREATED:20170524T034721Z
LAST-MODIFIED:20170524T034722Z
UID:9017-1495659600-1495666800@www.stadiumkedah.gov.my
SUMMARY:Liga Super Kedah mln T-Team
DESCRIPTION:
URL:https://www.stadiumkedah.gov.my/acara/liga-super-kedah-mln-t-team/
LOCATION:Stadium Darul Aman
CATEGORIES:Acara,Stadium Darul Aman
END:VEVENT
BEGIN:VEVENT
DTSTART;TZID=Asia/Kuala_Lumpur:20170518T080000
DTEND;TZID=Asia/Kuala_Lumpur:20170521T220000
DTSTAMP:20260421T232431
CREATED:20170430T033129Z
LAST-MODIFIED:20170430T033655Z
UID:8663-1495094400-1495404000@www.stadiumkedah.gov.my
SUMMARY:Karnival Amal Hari Penyayang 2017
DESCRIPTION:
URL:https://www.stadiumkedah.gov.my/acara/karnival-amal-hari-penyayang-2017/
LOCATION:Stadium Darul Aman
CATEGORIES:Acara,Stadium Darul Aman
END:VEVENT
BEGIN:VEVENT
DTSTART;TZID=Asia/Kuala_Lumpur:20170518T080000
DTEND;TZID=Asia/Kuala_Lumpur:20170521T170000
DTSTAMP:20260421T232431
CREATED:20170430T034614Z
LAST-MODIFIED:20170502T142012Z
UID:8670-1495094400-1495386000@www.stadiumkedah.gov.my
SUMMARY:Kejohanan Futsal Lelaki / Wanita MAKSAK Malaysia 2017
DESCRIPTION:
URL:https://www.stadiumkedah.gov.my/acara/kejohanan-futsal-lelaki-wanita-maksak-malaysia-2017/
LOCATION:Stadium Sultan Abdul Halim
CATEGORIES:Acara,Stadium Sultan Abdul Halim
END:VEVENT
BEGIN:VEVENT
DTSTART;TZID=Asia/Kuala_Lumpur:20170512T080000
DTEND;TZID=Asia/Kuala_Lumpur:20170513T180000
DTSTAMP:20260421T232431
CREATED:20170430T032747Z
LAST-MODIFIED:20170430T032747Z
UID:8661-1494576000-1494698400@www.stadiumkedah.gov.my
SUMMARY:Kejohanan Olahraga Terbuka Kedah
DESCRIPTION:
URL:https://www.stadiumkedah.gov.my/acara/kejohanan-olahraga-terbuka-kedah/
LOCATION:Stadium Darul Aman
CATEGORIES:Acara,Stadium Darul Aman
END:VEVENT
BEGIN:VEVENT
DTSTART;TZID=Asia/Kuala_Lumpur:20170511T163000
DTEND;TZID=Asia/Kuala_Lumpur:20170511T190000
DTSTAMP:20260421T232431
CREATED:20170509T095007Z
LAST-MODIFIED:20170509T095007Z
UID:9013-1494520200-1494529200@www.stadiumkedah.gov.my
SUMMARY:Piala Presiden 2017 Kedah mln Melaka
DESCRIPTION:
URL:https://www.stadiumkedah.gov.my/acara/piala-presiden-2017-kedah-mln-melaka/
LOCATION:Stadium Darul Aman
CATEGORIES:Acara,Stadium Darul Aman
END:VEVENT
BEGIN:VEVENT
DTSTART;TZID=Asia/Kuala_Lumpur:20170505T073000
DTEND;TZID=Asia/Kuala_Lumpur:20170506T180000
DTSTAMP:20260421T232431
CREATED:20170429T061503Z
LAST-MODIFIED:20170429T062422Z
UID:8657-1493969400-1494093600@www.stadiumkedah.gov.my
SUMMARY:Program Temu Duga Terbuka SL1M Peringkat Zon Utara
DESCRIPTION:
URL:https://www.stadiumkedah.gov.my/acara/program-temu-duga-terbuka-sl1m-peringkat-zon-utara/
LOCATION:Stadium Sultan Abdul Halim
CATEGORIES:Acara,Stadium Sultan Abdul Halim
END:VEVENT
BEGIN:VEVENT
DTSTART;TZID=Asia/Kuala_Lumpur:20170430T210000
DTEND;TZID=Asia/Kuala_Lumpur:20170430T230000
DTSTAMP:20260421T232431
CREATED:20170426T015456Z
LAST-MODIFIED:20170426T015456Z
UID:8604-1493586000-1493593200@www.stadiumkedah.gov.my
SUMMARY:Piala FA Kedah mln Terengganu (Separuh Akhir)
DESCRIPTION:
URL:https://www.stadiumkedah.gov.my/acara/piala-fa-kedah-mln-terengganu-separuh-akhir/
LOCATION:Stadium Darul Aman
CATEGORIES:Acara,Stadium Darul Aman
END:VEVENT
BEGIN:VEVENT
DTSTART;TZID=Asia/Kuala_Lumpur:20170422T070000
DTEND;TZID=Asia/Kuala_Lumpur:20170422T130000
DTSTAMP:20260421T232431
CREATED:20170413T022738Z
LAST-MODIFIED:20170413T022738Z
UID:8569-1492844400-1492866000@www.stadiumkedah.gov.my
SUMMARY:Hari Sukan Brainy Bunch
DESCRIPTION:
URL:https://www.stadiumkedah.gov.my/acara/hari-sukan-brainy-bunch/
LOCATION:Stadium Sultan Abdul Halim
CATEGORIES:Acara,Stadium Sultan Abdul Halim
END:VEVENT
BEGIN:VEVENT
DTSTART;TZID=Asia/Kuala_Lumpur:20170417T080000
DTEND;TZID=Asia/Kuala_Lumpur:20170418T170000
DTSTAMP:20260421T232431
CREATED:20170418T033423Z
LAST-MODIFIED:20170426T021610Z
UID:8596-1492416000-1492534800@www.stadiumkedah.gov.my
SUMMARY:Sirkit 1 Renang Paralimpik
DESCRIPTION:
URL:https://www.stadiumkedah.gov.my/acara/sirkit-1-renang-paralimpik/
LOCATION:Pusat Akuatik Negeri Kedah
CATEGORIES:Acara,Pusat Akuatik Negeri Kedah
END:VEVENT
BEGIN:VEVENT
DTSTART;TZID=Asia/Kuala_Lumpur:20170415T070000
DTEND;TZID=Asia/Kuala_Lumpur:20170415T130000
DTSTAMP:20260421T232431
CREATED:20170413T022644Z
LAST-MODIFIED:20170413T022644Z
UID:8567-1492239600-1492261200@www.stadiumkedah.gov.my
SUMMARY:Hari Sukan CIC
DESCRIPTION:
URL:https://www.stadiumkedah.gov.my/acara/hari-sukan-cic/
LOCATION:Stadium Sultan Abdul Halim
CATEGORIES:Acara,Stadium Sultan Abdul Halim
END:VEVENT
BEGIN:VEVENT
DTSTART;TZID=Asia/Kuala_Lumpur:20170413T080000
DTEND;TZID=Asia/Kuala_Lumpur:20170413T170000
DTSTAMP:20260421T232431
CREATED:20170329T030139Z
LAST-MODIFIED:20170329T030139Z
UID:8534-1492070400-1492102800@www.stadiumkedah.gov.my
SUMMARY:Kejohanan Sukan SMK Keat Hwa II
DESCRIPTION:
URL:https://www.stadiumkedah.gov.my/acara/kejohanan-sukan-smk-keat-hwa-ii/
LOCATION:Stadium Darul Aman
CATEGORIES:Acara,Stadium Darul Aman
END:VEVENT
BEGIN:VEVENT
DTSTART;TZID=Asia/Kuala_Lumpur:20170408T210000
DTEND;TZID=Asia/Kuala_Lumpur:20170408T230000
DTSTAMP:20260421T232431
CREATED:20170329T025907Z
LAST-MODIFIED:20170329T025907Z
UID:8531-1491685200-1491692400@www.stadiumkedah.gov.my
SUMMARY:Liga Super Kedah mln PKNS
DESCRIPTION:
URL:https://www.stadiumkedah.gov.my/acara/liga-super-kedah-mln-pkns/
LOCATION:Stadium Darul Aman
CATEGORIES:Acara,Stadium Darul Aman
END:VEVENT
BEGIN:VEVENT
DTSTART;TZID=Asia/Kuala_Lumpur:20170407T080000
DTEND;TZID=Asia/Kuala_Lumpur:20170410T170000
DTSTAMP:20260421T232431
CREATED:20170413T022955Z
LAST-MODIFIED:20170413T023123Z
UID:8571-1491552000-1491843600@www.stadiumkedah.gov.my
SUMMARY:Latihan Bola Jaring MSN Kedah
DESCRIPTION:
URL:https://www.stadiumkedah.gov.my/acara/latihan-bola-jaring-msn-kedah/
LOCATION:Stadium Sultan Abdul Halim
CATEGORIES:Stadium Sultan Abdul Halim
END:VEVENT
BEGIN:VEVENT
DTSTART;TZID=Asia/Kuala_Lumpur:20170404T080000
DTEND;TZID=Asia/Kuala_Lumpur:20170406T180000
DTSTAMP:20260421T232431
CREATED:20170404T084510Z
LAST-MODIFIED:20170404T084510Z
UID:8551-1491292800-1491501600@www.stadiumkedah.gov.my
SUMMARY:Kejohanan Hoki MSSD Kota Setar B-12
DESCRIPTION:
URL:https://www.stadiumkedah.gov.my/acara/kejohanan-hoki-mssd-kota-setar-b-12/
CATEGORIES:Kompleks Sukan Muadzam Shah
ORGANIZER;CN="Pejabat Pelajaran Daerah Kota Setar":MAILTO:ppdkotasetar@gmail.com
END:VEVENT
BEGIN:VEVENT
DTSTART;TZID=Asia/Kuala_Lumpur:20170403T080000
DTEND;TZID=Asia/Kuala_Lumpur:20170406T170000
DTSTAMP:20260421T232431
CREATED:20170301T012638Z
LAST-MODIFIED:20170329T025527Z
UID:8517-1491206400-1491498000@www.stadiumkedah.gov.my
SUMMARY:Kejohanan Balapan Dan Padang MSSK
DESCRIPTION:
URL:https://www.stadiumkedah.gov.my/acara/kejohanan-balapan-dan-padang-mssk/
LOCATION:Stadium Darul Aman
CATEGORIES:Acara,Stadium Darul Aman
ORGANIZER;CN="Jabatan Pendidikan Negeri Kedah":MAILTO:jpn.kedah[@]moe.gov.my
END:VEVENT
BEGIN:VEVENT
DTSTART;TZID=Asia/Kuala_Lumpur:20170401T210000
DTEND;TZID=Asia/Kuala_Lumpur:20170401T230000
DTSTAMP:20260421T232431
CREATED:20170329T025702Z
LAST-MODIFIED:20170401T034230Z
UID:8529-1491080400-1491087600@www.stadiumkedah.gov.my
SUMMARY:Piala FA Kedah mln PKNP FC (Suku Akhir)
DESCRIPTION:
URL:https://www.stadiumkedah.gov.my/acara/piala-fa-kedah-mln-pknp/
LOCATION:Stadium Darul Aman
CATEGORIES:Acara,Stadium Darul Aman
END:VEVENT
BEGIN:VEVENT
DTSTART;TZID=Asia/Kuala_Lumpur:20170325T090000
DTEND;TZID=Asia/Kuala_Lumpur:20170325T230000
DTSTAMP:20260421T232431
CREATED:20170322T031947Z
LAST-MODIFIED:20170322T031947Z
UID:8524-1490432400-1490482800@www.stadiumkedah.gov.my
SUMMARY:Perlawanan Persahabatan Kedah mln Perlis
DESCRIPTION:
URL:https://www.stadiumkedah.gov.my/acara/perlawanan-persahabatan-kedah-mln-perlis/
LOCATION:Stadium Darul Aman
CATEGORIES:Acara,Stadium Darul Aman
END:VEVENT
BEGIN:VEVENT
DTSTART;TZID=Asia/Kuala_Lumpur:20170316T080000
DTEND;TZID=Asia/Kuala_Lumpur:20170327T170000
DTSTAMP:20260421T232431
CREATED:20170301T012444Z
LAST-MODIFIED:20170301T012444Z
UID:8514-1489651200-1490634000@www.stadiumkedah.gov.my
SUMMARY:Latihan Pusat MSSD Kota Setar
DESCRIPTION:
URL:https://www.stadiumkedah.gov.my/acara/latihan-pusat-mssd-kota-setar-2/
CATEGORIES:Acara,Stadium Darul Aman
END:VEVENT
BEGIN:VEVENT
DTSTART;TZID=Asia/Kuala_Lumpur:20170309T080000
DTEND;TZID=Asia/Kuala_Lumpur:20170311T220000
DTSTAMP:20260421T232431
CREATED:20170222T072221Z
LAST-MODIFIED:20170222T074518Z
UID:8436-1489046400-1489269600@www.stadiumkedah.gov.my
SUMMARY:Baby & Kids Fair 2017
DESCRIPTION:Pameran barangan bayi dan kanak-kanak 2017
URL:https://www.stadiumkedah.gov.my/acara/baby-kids-fair/
LOCATION:Stadium Sultan Abdul Halim
CATEGORIES:Acara,Stadium Sultan Abdul Halim
ORGANIZER;CN="Linkz Event Sdn. Bhd":MAILTO:info@linkzevent.com
END:VEVENT
BEGIN:VEVENT
DTSTART;TZID=Asia/Kuala_Lumpur:20170306T080000
DTEND;TZID=Asia/Kuala_Lumpur:20170313T170000
DTSTAMP:20260421T232431
CREATED:20170301T012359Z
LAST-MODIFIED:20170301T012411Z
UID:8511-1488787200-1489424400@www.stadiumkedah.gov.my
SUMMARY:Latihan Pusat MSSD Kota Setar
DESCRIPTION:
URL:https://www.stadiumkedah.gov.my/acara/latihan-pusat-mssd-kota-setar/
LOCATION:Stadium Darul Aman
CATEGORIES:Acara,Stadium Darul Aman
END:VEVENT
BEGIN:VEVENT
DTSTART;TZID=Asia/Kuala_Lumpur:20170306T080000
DTEND;TZID=Asia/Kuala_Lumpur:20170308T170000
DTSTAMP:20260421T232431
CREATED:20170301T011815Z
LAST-MODIFIED:20170301T011816Z
UID:8505-1488787200-1488992400@www.stadiumkedah.gov.my
SUMMARY:Kejohanan Balapan Dan Padang MSSD Padang Terap
DESCRIPTION:
URL:https://www.stadiumkedah.gov.my/acara/kejohanan-balapan-dan-padang-mssd-padang-terap/
LOCATION:Stadium Darul Aman
CATEGORIES:Acara,Stadium Darul Aman
ORGANIZER;CN="Pejabat Pelajaran Daearh Padang Terap":MAILTO:adminppdpt@moe.gov.my 
END:VEVENT
BEGIN:VEVENT
DTSTART;TZID=Asia/Kuala_Lumpur:20170305T090000
DTEND;TZID=Asia/Kuala_Lumpur:20170305T103000
DTSTAMP:20260421T232431
CREATED:20170301T012011Z
LAST-MODIFIED:20170301T012207Z
UID:8508-1488704400-1488709800@www.stadiumkedah.gov.my
SUMMARY:Latihan Pelajar Sek Ren Islam AS
DESCRIPTION:
URL:https://www.stadiumkedah.gov.my/acara/latihan-pelajar-sek-ren-islam-as/
LOCATION:Stadium Darul Aman
CATEGORIES:Stadium Darul Aman
END:VEVENT
BEGIN:VEVENT
DTSTART;TZID=Asia/Kuala_Lumpur:20170304T210000
DTEND;TZID=Asia/Kuala_Lumpur:20170304T230000
DTSTAMP:20260421T232431
CREATED:20170301T011311Z
LAST-MODIFIED:20170301T011311Z
UID:8501-1488661200-1488668400@www.stadiumkedah.gov.my
SUMMARY:Liga Super Kedah mln Melaka
DESCRIPTION:
URL:https://www.stadiumkedah.gov.my/acara/liga-super-kedah-mln-melaka/
LOCATION:Stadium Darul Aman
CATEGORIES:Stadium Darul Aman
END:VEVENT
BEGIN:VEVENT
DTSTART;TZID=Asia/Kuala_Lumpur:20170301T080000
DTEND;TZID=Asia/Kuala_Lumpur:20170302T170000
DTSTAMP:20260421T232431
CREATED:20170222T044558Z
LAST-MODIFIED:20170222T051530Z
UID:8423-1488355200-1488474000@www.stadiumkedah.gov.my
SUMMARY:Kejohanan Sukan Maktab Mahmud
DESCRIPTION:
URL:https://www.stadiumkedah.gov.my/acara/kejohanan-sukan-maktab-mahmud/
LOCATION:Stadium Sultan Abdul Halim
CATEGORIES:Acara,Stadium Sultan Abdul Halim
END:VEVENT
BEGIN:VEVENT
DTSTART;TZID=Asia/Kuala_Lumpur:20170227T080000
DTEND;TZID=Asia/Kuala_Lumpur:20170302T170000
DTSTAMP:20260421T232431
CREATED:20170222T022324Z
LAST-MODIFIED:20170301T011533Z
UID:8412-1488182400-1488474000@www.stadiumkedah.gov.my
SUMMARY:Kejohanan Balapan Dan Padang MSSD Kota Setar
DESCRIPTION:
URL:https://www.stadiumkedah.gov.my/acara/mssd2017/
LOCATION:Stadium Darul Aman
CATEGORIES:Acara,Stadium Darul Aman
ORGANIZER;CN="Pejabat Pelajaran Daerah Kota Setar":MAILTO:ppdkotasetar@gmail.com
END:VEVENT
BEGIN:VEVENT
DTSTART;TZID=Asia/Kuala_Lumpur:20170226T080000
DTEND;TZID=Asia/Kuala_Lumpur:20170226T180000
DTSTAMP:20260421T232431
CREATED:20170222T075607Z
LAST-MODIFIED:20170222T075751Z
UID:8444-1488096000-1488132000@www.stadiumkedah.gov.my
SUMMARY:Kojahanan Akuatik MSSK 2017
DESCRIPTION:
URL:https://www.stadiumkedah.gov.my/acara/kojahanan-akuatik-mssk-2017/
LOCATION:Pusat Akuatik Negeri Kedah
CATEGORIES:Acara,Pusat Akuatik Negeri Kedah
ORGANIZER;CN="Jabatan Pendidikan Negeri Kedah":MAILTO:jpn.kedah[@]moe.gov.my
END:VEVENT
BEGIN:VEVENT
DTSTART;TZID=Asia/Kuala_Lumpur:20170225T210000
DTEND;TZID=Asia/Kuala_Lumpur:20170225T230000
DTSTAMP:20260421T232431
CREATED:20170218T002943Z
LAST-MODIFIED:20170222T043535Z
UID:8359-1488056400-1488063600@www.stadiumkedah.gov.my
SUMMARY:Liga Super Kedah mln Pulau Pinang
DESCRIPTION:
URL:https://www.stadiumkedah.gov.my/acara/liga-super-kedah-mln-pulau-pinang/
LOCATION:Stadium Darul Aman
CATEGORIES:Acara
END:VEVENT
BEGIN:VEVENT
DTSTART;TZID=Asia/Kuala_Lumpur:20170223T160000
DTEND;TZID=Asia/Kuala_Lumpur:20170223T190000
DTSTAMP:20260421T232431
CREATED:20170222T054600Z
LAST-MODIFIED:20170222T054718Z
UID:8432-1487865600-1487876400@www.stadiumkedah.gov.my
SUMMARY:Piala Presiden 2017 Kedah mln P.Pinang
DESCRIPTION:
URL:https://www.stadiumkedah.gov.my/acara/piala-presiden-kdh-vs-ppinang/
LOCATION:Stadium Darul Aman
CATEGORIES:Stadium Darul Aman
END:VEVENT
BEGIN:VEVENT
DTSTART;TZID=Asia/Kuala_Lumpur:20170223T080000
DTEND;TZID=Asia/Kuala_Lumpur:20170223T130000
DTSTAMP:20260421T232431
CREATED:20170222T044132Z
LAST-MODIFIED:20170222T044132Z
UID:8420-1487836800-1487854800@www.stadiumkedah.gov.my
SUMMARY:Kejohanan Sukan SJKC Keat Hwa H
DESCRIPTION:
URL:https://www.stadiumkedah.gov.my/acara/kejohanan-sukan-sjkc-keat-hwa-h/
LOCATION:Stadium Darul Aman
CATEGORIES:Stadium Darul Aman
END:VEVENT
END:VCALENDAR