BEGIN:VCALENDAR
VERSION:2.0
PRODID:-//Perbadanan  Stadium Negeri Kedah - ECPv6.14.1//NONSGML v1.0//EN
CALSCALE:GREGORIAN
METHOD:PUBLISH
X-WR-CALNAME:Perbadanan  Stadium Negeri Kedah
X-ORIGINAL-URL:https://www.stadiumkedah.gov.my
X-WR-CALDESC:Events for Perbadanan  Stadium Negeri Kedah
REFRESH-INTERVAL;VALUE=DURATION:PT1H
X-Robots-Tag:noindex
X-PUBLISHED-TTL:PT1H
BEGIN:VTIMEZONE
TZID:Asia/Kuala_Lumpur
BEGIN:STANDARD
TZOFFSETFROM:+0800
TZOFFSETTO:+0800
TZNAME:+08
DTSTART:20170101T000000
END:STANDARD
END:VTIMEZONE
BEGIN:VEVENT
DTSTART;TZID=Asia/Kuala_Lumpur:20180409T164500
DTEND;TZID=Asia/Kuala_Lumpur:20180409T190000
DTSTAMP:20260421T180624
CREATED:20180404T034058Z
LAST-MODIFIED:20180404T034058Z
UID:9329-1523292300-1523300400@www.stadiumkedah.gov.my
SUMMARY:Piala Presiden Kedah lwn ATM
DESCRIPTION:
URL:https://www.stadiumkedah.gov.my/acara/piala-presiden-kedah-lwn-atm/
LOCATION:Stadium Darul Aman
CATEGORIES:Acara,Bola Sepak,Stadium Darul Aman
END:VEVENT
BEGIN:VEVENT
DTSTART;TZID=Asia/Kuala_Lumpur:20180406T164500
DTEND;TZID=Asia/Kuala_Lumpur:20180406T190000
DTSTAMP:20260421T180624
CREATED:20180404T033952Z
LAST-MODIFIED:20180404T033953Z
UID:9327-1523033100-1523041200@www.stadiumkedah.gov.my
SUMMARY:Perlawanan Persahabatan Kedah lwn Perlis
DESCRIPTION:
URL:https://www.stadiumkedah.gov.my/acara/perlawanan-persahabatan-kedah-lwn-perlis/
LOCATION:Stadium Darul Aman
CATEGORIES:Acara,Bola Sepak,Stadium Darul Aman
END:VEVENT
BEGIN:VEVENT
DTSTART;TZID=Asia/Kuala_Lumpur:20180401T164500
DTEND;TZID=Asia/Kuala_Lumpur:20180401T190000
DTSTAMP:20260421T180624
CREATED:20180404T033806Z
LAST-MODIFIED:20180404T033807Z
UID:9325-1522601100-1522609200@www.stadiumkedah.gov.my
SUMMARY:Piala Presiden Kedah lwn MISC Mifa
DESCRIPTION:
URL:https://www.stadiumkedah.gov.my/acara/piala-presiden-kedah-lwn-misc-mifa/
LOCATION:Stadium Darul Aman
CATEGORIES:Acara,Bola Sepak,Stadium Darul Aman
END:VEVENT
BEGIN:VEVENT
DTSTART;TZID=Asia/Kuala_Lumpur:20180330T210000
DTEND;TZID=Asia/Kuala_Lumpur:20180330T230000
DTSTAMP:20260421T180624
CREATED:20180304T084820Z
LAST-MODIFIED:20180404T034916Z
UID:9282-1522443600-1522450800@www.stadiumkedah.gov.my
SUMMARY:unifi Liga Super Malaysia 2018 Kedah lwn Kelantan
DESCRIPTION:
URL:https://www.stadiumkedah.gov.my/acara/unifi-liga-super-malaysia-2018-kedah-lwn-kelantan/
LOCATION:Stadium Darul Aman
CATEGORIES:Acara,Bola Sepak,Stadium Darul Aman
END:VEVENT
BEGIN:VEVENT
DTSTART;TZID=Asia/Kuala_Lumpur:20180329T163000
DTEND;TZID=Asia/Kuala_Lumpur:20180329T190000
DTSTAMP:20260421T180624
CREATED:20180304T085757Z
LAST-MODIFIED:20180325T015311Z
UID:9291-1522341000-1522350000@www.stadiumkedah.gov.my
SUMMARY:Piala Presiden Kedah lwn Pahang
DESCRIPTION:
URL:https://www.stadiumkedah.gov.my/acara/piala-presiden-kedah-lwn-pahang/
LOCATION:Stadium Darul Aman
CATEGORIES:Acara,Bola Sepak,Stadium Darul Aman
END:VEVENT
BEGIN:VEVENT
DTSTART;TZID=Asia/Kuala_Lumpur:20180311T080000
DTEND;TZID=Asia/Kuala_Lumpur:20180313T170000
DTSTAMP:20260421T180624
CREATED:20180304T085252Z
LAST-MODIFIED:20180304T085252Z
UID:9287-1520755200-1520960400@www.stadiumkedah.gov.my
SUMMARY:Kejohanan Sukan Dan Balapan MSSD Padang Terap
DESCRIPTION:
URL:https://www.stadiumkedah.gov.my/acara/kejohanan-sukan-dan-balapan-mssd-padang-terap/
LOCATION:Stadium Darul Aman
CATEGORIES:Acara,Stadium Darul Aman
ORGANIZER;CN="Pejabat Pelajaran Daearh Padang Terap":MAILTO:adminppdpt@moe.gov.my 
END:VEVENT
BEGIN:VEVENT
DTSTART;TZID=Asia/Kuala_Lumpur:20180310T080000
DTEND;TZID=Asia/Kuala_Lumpur:20180310T120000
DTSTAMP:20260421T180624
CREATED:20180304T090029Z
LAST-MODIFIED:20180304T090029Z
UID:9293-1520668800-1520683200@www.stadiumkedah.gov.my
SUMMARY:Hari Sukan Tadika Brainy Bunch
DESCRIPTION:
URL:https://www.stadiumkedah.gov.my/acara/hari-sukan-tadika-brainy-bunch/
LOCATION:Stadium Sultan Abdul Halim
CATEGORIES:Acara,Stadium Sultan Abdul Halim
END:VEVENT
BEGIN:VEVENT
DTSTART;TZID=Asia/Kuala_Lumpur:20180306T080000
DTEND;TZID=Asia/Kuala_Lumpur:20180309T170000
DTSTAMP:20260421T180624
CREATED:20180304T085147Z
LAST-MODIFIED:20180304T085147Z
UID:9285-1520323200-1520614800@www.stadiumkedah.gov.my
SUMMARY:Kejohanan Sukan Dan Balapan MSSD Kota Setar
DESCRIPTION:
URL:https://www.stadiumkedah.gov.my/acara/kejohanan-sukan-dan-balapan-mssd-kota-setar/
LOCATION:Stadium Darul Aman
CATEGORIES:Acara,Stadium Darul Aman
ORGANIZER;CN="Pejabat Pelajaran Daerah Kota Setar":MAILTO:ppdkotasetar@gmail.com
END:VEVENT
BEGIN:VEVENT
DTSTART;TZID=Asia/Kuala_Lumpur:20180302T210000
DTEND;TZID=Asia/Kuala_Lumpur:20180302T230000
DTSTAMP:20260421T180624
CREATED:20180301T072559Z
LAST-MODIFIED:20180304T085435Z
UID:9276-1520024400-1520031600@www.stadiumkedah.gov.my
SUMMARY:shopee Piala FA 2018 Kedah lwn N. Sembilan
DESCRIPTION:
URL:https://www.stadiumkedah.gov.my/acara/piala-fa-2018-kedah-lwn-n-sembilan/
LOCATION:Stadium Darul Aman
CATEGORIES:Acara,Bola Sepak,Stadium Darul Aman
END:VEVENT
BEGIN:VEVENT
DTSTART;TZID=Asia/Kuala_Lumpur:20180301T163000
DTEND;TZID=Asia/Kuala_Lumpur:20180301T190000
DTSTAMP:20260421T180624
CREATED:20180304T085419Z
LAST-MODIFIED:20180304T085419Z
UID:9289-1519921800-1519930800@www.stadiumkedah.gov.my
SUMMARY:Piala Presiden Kedah lwn Selangor
DESCRIPTION:
URL:https://www.stadiumkedah.gov.my/acara/piala-presiden-kedah-lwn-selangor/
LOCATION:Stadium Sultan Abdul Halim
CATEGORIES:Acara,Bola Sepak,Stadium Sultan Abdul Halim
END:VEVENT
BEGIN:VEVENT
DTSTART;TZID=Asia/Kuala_Lumpur:20180301T100000
DTEND;TZID=Asia/Kuala_Lumpur:20180303T230000
DTSTAMP:20260421T180624
CREATED:20180301T073207Z
LAST-MODIFIED:20180301T073207Z
UID:9280-1519898400-1520118000@www.stadiumkedah.gov.my
SUMMARY:Baby & Kidz Fair
DESCRIPTION:
URL:https://www.stadiumkedah.gov.my/acara/baby-kidz-fair/
LOCATION:Stadium Sultan Abdul Halim
CATEGORIES:Acara,Stadium Sultan Abdul Halim
ATTACH;FMTTYPE=image/jpeg:https://www.stadiumkedah.gov.my/wp-content/uploads/2018/03/27908031_1654108967983773_6653825945252094916_o.jpg
END:VEVENT
BEGIN:VEVENT
DTSTART;TZID=Asia/Kuala_Lumpur:20180224T100000
DTEND;TZID=Asia/Kuala_Lumpur:20180303T220000
DTSTAMP:20260421T180624
CREATED:20180212T090319Z
LAST-MODIFIED:20180212T143415Z
UID:9264-1519466400-1520114400@www.stadiumkedah.gov.my
SUMMARY:Ekspo Muafakat Kedah 2018
DESCRIPTION:
URL:https://www.stadiumkedah.gov.my/acara/ekspo-muafakat-kedah-2018/
LOCATION:Stadium Darul Aman
CATEGORIES:Acara,Stadium Darul Aman
ATTACH;FMTTYPE=image/jpeg:https://www.stadiumkedah.gov.my/wp-content/uploads/2018/02/ekspo-maufakat-kedah.jpg
END:VEVENT
BEGIN:VEVENT
DTSTART;TZID=Asia/Kuala_Lumpur:20180222T164500
DTEND;TZID=Asia/Kuala_Lumpur:20180222T190000
DTSTAMP:20260421T180624
CREATED:20180221T055524Z
LAST-MODIFIED:20180221T055524Z
UID:9272-1519317900-1519326000@www.stadiumkedah.gov.my
SUMMARY:Piala Presiden Kedah lwn Sabah
DESCRIPTION:
URL:https://www.stadiumkedah.gov.my/acara/piala-presiden-kedah-lwn-sabah/
LOCATION:Stadium Sultan Abdul Halim
CATEGORIES:Bola Sepak,Stadium Sultan Abdul Halim
END:VEVENT
BEGIN:VEVENT
DTSTART;TZID=Asia/Kuala_Lumpur:20180207T210000
DTEND;TZID=Asia/Kuala_Lumpur:20180207T230000
DTSTAMP:20260421T180624
CREATED:20180207T065558Z
LAST-MODIFIED:20180207T112600Z
UID:9259-1518037200-1518044400@www.stadiumkedah.gov.my
SUMMARY:unifi Liga Super Malaysia 2018 Kedah vs Perak
DESCRIPTION:
URL:https://www.stadiumkedah.gov.my/acara/unifi-liga-super-2018/
LOCATION:Stadium Darul Aman
CATEGORIES:Stadium Darul Aman
END:VEVENT
BEGIN:VEVENT
DTSTART;TZID=Asia/Kuala_Lumpur:20180206T080000
DTEND;TZID=Asia/Kuala_Lumpur:20180211T220000
DTSTAMP:20260421T180624
CREATED:20180129T064415Z
LAST-MODIFIED:20180129T064937Z
UID:9234-1517904000-1518386400@www.stadiumkedah.gov.my
SUMMARY:Badminton Asia Team Championships 2018
DESCRIPTION:
URL:https://www.stadiumkedah.gov.my/acara/badminton-asia-team-championships-2018/
LOCATION:Stadium Sultan Abdul Halim
CATEGORIES:Acara,Stadium Sultan Abdul Halim
ATTACH;FMTTYPE=image/jpeg:https://www.stadiumkedah.gov.my/wp-content/uploads/2018/01/badminton-asia-team-2018.jpg
END:VEVENT
BEGIN:VEVENT
DTSTART;TZID=Asia/Kuala_Lumpur:20180104T090000
DTEND;TZID=Asia/Kuala_Lumpur:20180106T230000
DTSTAMP:20260421T180624
CREATED:20171214T075703Z
LAST-MODIFIED:20171214T075902Z
UID:9188-1515056400-1515279600@www.stadiumkedah.gov.my
SUMMARY:Ekspo Bayi TLM
DESCRIPTION:
URL:https://www.stadiumkedah.gov.my/acara/ekspo-bayi-tlm/
LOCATION:Stadium Sultan Abdul Halim
CATEGORIES:Stadium Sultan Abdul Halim
END:VEVENT
BEGIN:VEVENT
DTSTART;TZID=Asia/Kuala_Lumpur:20171216T200000
DTEND;TZID=Asia/Kuala_Lumpur:20171217T000000
DTSTAMP:20260421T180624
CREATED:20171211T053630Z
LAST-MODIFIED:20171211T054704Z
UID:9167-1513454400-1513468800@www.stadiumkedah.gov.my
SUMMARY:Perlawanan Akhir Kejohanan Muay Thai Terbuka Kedah
DESCRIPTION:
URL:https://www.stadiumkedah.gov.my/acara/perlawanan-akhir-kejohanan-muay-thai-terbuka-kedah/
LOCATION:Stadium Sultan Abdul Halim
CATEGORIES:Acara,Stadium Sultan Abdul Halim
ATTACH;FMTTYPE=image/jpeg:https://www.stadiumkedah.gov.my/wp-content/uploads/2017/12/muaythai.jpg
END:VEVENT
BEGIN:VEVENT
DTSTART;TZID=Asia/Kuala_Lumpur:20171208T070000
DTEND;TZID=Asia/Kuala_Lumpur:20171208T210000
DTSTAMP:20260421T180624
CREATED:20171211T055431Z
LAST-MODIFIED:20171211T055431Z
UID:9172-1512716400-1512766800@www.stadiumkedah.gov.my
SUMMARY:Persembahan Taiji Peringkat Kebangsaan
DESCRIPTION:
URL:https://www.stadiumkedah.gov.my/acara/persembahan-taiji-peringkat-kebangsaan/
LOCATION:Stadium Sultan Abdul Halim
CATEGORIES:Acara,Stadium Sultan Abdul Halim
END:VEVENT
BEGIN:VEVENT
DTSTART;TZID=Asia/Kuala_Lumpur:20171128T090000
DTEND;TZID=Asia/Kuala_Lumpur:20171203T000000
DTSTAMP:20260421T180624
CREATED:20171118T131202Z
LAST-MODIFIED:20171118T131202Z
UID:9161-1511859600-1512259200@www.stadiumkedah.gov.my
SUMMARY:Festival All In One
DESCRIPTION:
URL:https://www.stadiumkedah.gov.my/acara/festival-all-in-one/
LOCATION:Stadium Sultan Abdul Halim
CATEGORIES:Acara,Stadium Sultan Abdul Halim
END:VEVENT
BEGIN:VEVENT
DTSTART;TZID=Asia/Kuala_Lumpur:20171028T210000
DTEND;TZID=Asia/Kuala_Lumpur:20171028T230000
DTSTAMP:20260421T180624
CREATED:20171001T005507Z
LAST-MODIFIED:20171001T010324Z
UID:9103-1509224400-1509231600@www.stadiumkedah.gov.my
SUMMARY:Liga Super Kedah vs Johor Darul Ta'zim FC
DESCRIPTION:
URL:https://www.stadiumkedah.gov.my/acara/liga-super-kedah-mln-johor-darul-tazim-fc/
LOCATION:Stadium Darul Aman
CATEGORIES:Acara,Bola Sepak,Stadium Darul Aman
END:VEVENT
BEGIN:VEVENT
DTSTART;TZID=Asia/Kuala_Lumpur:20171021T210000
DTEND;TZID=Asia/Kuala_Lumpur:20171021T230000
DTSTAMP:20260421T180624
CREATED:20171001T011029Z
LAST-MODIFIED:20171001T011029Z
UID:9110-1508619600-1508626800@www.stadiumkedah.gov.my
SUMMARY:Piala Malaysia Kedah vs Felda United (Separuh Akhir)
DESCRIPTION:
URL:https://www.stadiumkedah.gov.my/acara/piala-malaysia-kedah-vs-felda-united-separuh-akhir/
LOCATION:Stadium Darul Aman
CATEGORIES:Acara,Bola Sepak,Stadium Darul Aman
END:VEVENT
BEGIN:VEVENT
DTSTART;TZID=Asia/Kuala_Lumpur:20171016T204500
DTEND;TZID=Asia/Kuala_Lumpur:20171016T223000
DTSTAMP:20260421T180624
CREATED:20171012T014014Z
LAST-MODIFIED:20171012T014014Z
UID:9124-1508186700-1508193000@www.stadiumkedah.gov.my
SUMMARY:Perlawanan Akhir 2 Piala Belia 2017 Kedah vs SSMP B-17
DESCRIPTION:
URL:https://www.stadiumkedah.gov.my/acara/perlawanan-akhir-2-piala-belia-2017-kedah-vs-ssmp-b-17/
LOCATION:Stadium Darul Aman
CATEGORIES:Acara,Bola Sepak,Stadium Darul Aman
END:VEVENT
BEGIN:VEVENT
DTSTART;TZID=Asia/Kuala_Lumpur:20171006T203000
DTEND;TZID=Asia/Kuala_Lumpur:20171006T233000
DTSTAMP:20260421T180624
CREATED:20171004T010728Z
LAST-MODIFIED:20171004T010755Z
UID:9120-1507321800-1507332600@www.stadiumkedah.gov.my
SUMMARY:Piala Presiden Kedah vs Selangor (Separuh Akhir Kedua)
DESCRIPTION:
URL:https://www.stadiumkedah.gov.my/acara/piala-presiden-kedah-vs-selangor-separuh-akhir-kedua/
LOCATION:Stadium Darul Aman
CATEGORIES:Acara,Bola Sepak,Stadium Darul Aman
END:VEVENT
BEGIN:VEVENT
DTSTART;TZID=Asia/Kuala_Lumpur:20171005T110000
DTEND;TZID=Asia/Kuala_Lumpur:20171008T220000
DTSTAMP:20260421T180624
CREATED:20171001T030717Z
LAST-MODIFIED:20171001T030717Z
UID:9117-1507201200-1507500000@www.stadiumkedah.gov.my
SUMMARY:Perfect Home Exhibition: "Trade In Old Furniture"
DESCRIPTION:
URL:https://www.stadiumkedah.gov.my/acara/perfect-home-exhibition-trade-in-old-furniture/
LOCATION:Stadium Sultan Abdul Halim
CATEGORIES:Acara,Stadium Sultan Abdul Halim
END:VEVENT
BEGIN:VEVENT
DTSTART;TZID=Asia/Kuala_Lumpur:20170926T210000
DTEND;TZID=Asia/Kuala_Lumpur:20170926T230000
DTSTAMP:20260421T180624
CREATED:20171001T025610Z
LAST-MODIFIED:20171001T025610Z
UID:9112-1506459600-1506466800@www.stadiumkedah.gov.my
SUMMARY:Piala Presiden Kedah vs Kuala Lumpur (Suku Akhir)
DESCRIPTION:
URL:https://www.stadiumkedah.gov.my/acara/piala-presiden-kedah-vs-kuala-lumpur-suku-akhir/
LOCATION:Stadium Darul Aman
CATEGORIES:Acara,Bola Sepak,Stadium Darul Aman
END:VEVENT
BEGIN:VEVENT
DTSTART;TZID=Asia/Kuala_Lumpur:20170924T210000
DTEND;TZID=Asia/Kuala_Lumpur:20170924T230000
DTSTAMP:20260421T180624
CREATED:20171001T025714Z
LAST-MODIFIED:20171001T030507Z
UID:9114-1506286800-1506294000@www.stadiumkedah.gov.my
SUMMARY:Piala Malaysia Kedah vs Selangor (Suku Akhir Kedua)
DESCRIPTION:
URL:https://www.stadiumkedah.gov.my/acara/piala-malaysia-kedah-vs-selangor-suku-akhir-kedua/
LOCATION:Stadium Darul Aman
CATEGORIES:Acara,Bola Sepak,Stadium Darul Aman
END:VEVENT
BEGIN:VEVENT
DTSTART;TZID=Asia/Kuala_Lumpur:20170920T080000
DTEND;TZID=Asia/Kuala_Lumpur:20170920T170000
DTSTAMP:20260421T180624
CREATED:20171001T005202Z
LAST-MODIFIED:20171001T010743Z
UID:9101-1505894400-1505926800@www.stadiumkedah.gov.my
SUMMARY:Liga Super Kedah vs Felda United
DESCRIPTION:
URL:https://www.stadiumkedah.gov.my/acara/liga-super-kedah-mln-felda-united/
LOCATION:Stadium Darul Aman
CATEGORIES:Acara,Bola Sepak,Stadium Darul Aman
END:VEVENT
BEGIN:VEVENT
DTSTART;TZID=Asia/Kuala_Lumpur:20170909T210000
DTEND;TZID=Asia/Kuala_Lumpur:20170909T230000
DTSTAMP:20260421T180624
CREATED:20171001T004838Z
LAST-MODIFIED:20171001T010826Z
UID:9099-1504990800-1504998000@www.stadiumkedah.gov.my
SUMMARY:Piala Malaysia Kedah vs Kelantan
DESCRIPTION:
URL:https://www.stadiumkedah.gov.my/acara/piala-malaysia-kedah-mln-kelantan/
LOCATION:Stadium Darul Aman
CATEGORIES:Acara,Bola Sepak,Stadium Darul Aman
END:VEVENT
BEGIN:VEVENT
DTSTART;TZID=Asia/Kuala_Lumpur:20170827T170000
DTEND;TZID=Asia/Kuala_Lumpur:20170827T190000
DTSTAMP:20260421T180624
CREATED:20171001T004329Z
LAST-MODIFIED:20171001T004329Z
UID:9097-1503853200-1503860400@www.stadiumkedah.gov.my
SUMMARY:Perlawanan Persahabatan Piala presiden Kedah mln Piala Emas Raja-Raja P.Pinang
DESCRIPTION:
URL:https://www.stadiumkedah.gov.my/acara/perlawanan-persahabatan-piala-presiden-kedah-mln-piala-emas-raja-raja-p-pinang/
LOCATION:Stadium Sultan Abdul Halim
CATEGORIES:Bola Sepak,Stadium Sultan Abdul Halim
END:VEVENT
BEGIN:VEVENT
DTSTART;TZID=Asia/Kuala_Lumpur:20170819T080000
DTEND;TZID=Asia/Kuala_Lumpur:20170819T170000
DTSTAMP:20260421T180624
CREATED:20171001T003942Z
LAST-MODIFIED:20171001T003942Z
UID:9095-1503129600-1503162000@www.stadiumkedah.gov.my
SUMMARY:Kejohanan Sukan Antara Peguam-Peguam Malaysia
DESCRIPTION:
URL:https://www.stadiumkedah.gov.my/acara/kejohanan-sukan-antara-peguam-peguam-malaysia/
LOCATION:Stadium Sultan Abdul Halim
CATEGORIES:Acara,Stadium Sultan Abdul Halim
END:VEVENT
END:VCALENDAR